BEGIN:VCALENDAR
VERSION:2.0
PRODID:-//gsolympiads.com - ECPv6.15.20//NONSGML v1.0//EN
CALSCALE:GREGORIAN
METHOD:PUBLISH
X-ORIGINAL-URL:https://gsolympiads.com
X-WR-CALDESC:Events for gsolympiads.com
REFRESH-INTERVAL;VALUE=DURATION:PT1H
X-Robots-Tag:noindex
X-PUBLISHED-TTL:PT1H
BEGIN:VTIMEZONE
TZID:Asia/Singapore
BEGIN:STANDARD
TZOFFSETFROM:+0800
TZOFFSETTO:+0800
TZNAME:+08
DTSTART:20240101T000000
END:STANDARD
END:VTIMEZONE
BEGIN:VEVENT
DTSTART;VALUE=DATE:20251031
DTEND;VALUE=DATE:20251102
DTSTAMP:20260420T103226
CREATED:20251020T014239Z
LAST-MODIFIED:20251125T023227Z
UID:1179-1761868800-1762041599@gsolympiads.com
SUMMARY:Asia Business Simulation (ABS)
DESCRIPTION:Rundown\nAsia Business Simulation 2025 – Regional Round \nLaunching Entrepreneurial Dreams. Shaping Future Business Leaders. \n🚀 What Is It?\nAsia Business Simulation is a competition built around a hands-on learning experience where students get to experience what it’s like to be professional entrepreneurs—running virtual companies and competing in strategic business challenges over two exciting days.\n🎓 This program is open to students in Grades 8 to 12\, giving middle and high schoolers a unique opportunity to develop their business skills early on.\n👥 Each team should consist of 6–8 students\, so gather your team and get ready to take on the challenge!\n🌏 More than 90\,000 students from 600+ schools have joined the movement. Now it’s your turn!\n📊 Judging Rubric \nStrategy 15% | Execution 50% | Presentation 35% \n🧩 Competition Rounds\nYour team will tackle four core challenges: \n\n\n🏢 Operations – Simulate daily business management\n\n\n🗂 Pitch Deck – Create & present a powerful business proposal\n\n\n📈 Stock Simulation – Trade\, invest\, and watch your company grow\n\n\n🔨 Auction – Strategically bid and acquire key business assets\n\n\n🗓️ Competition Detail:\n🖥️ Pre-Event Briefing: Online session before competition day\n🏆 Competition Dates: October 31 – November 1\, 2025\n📍 Venue:\nSPM Sekolah Perkumpulan Mandiri\nJl. Panglima Polim 1 Blok N/1 No.207-B\,\nMelawai\, Kebayoran Baru\,Jakarta Selatan 12160\, Indonesia\n📝 Registration Deadline: October 10\, 2025 \n🎯 Why Join?\n\nKey Skills\nTeamwork\, leadership\, problem-solving.\nStart a Virtual Business\nExperience real-world challenges in a fun simulation.\nStand Out Academically\nEnhance your university and scholarship applications.\n\n🏅 AWARDS\n\n\n🥇 GOLD: 1st Place\n\n\n🥈 SILVER: Top 10%\n\n\n🥉 BRONZE: Top 25%\n\n\n🎓 Enterprise Certificate for Top 60%\n\n\nREGISTER NOW!✅ Fee includes: Participation\, materials\, mentoring\, feedback\, and certification \nhttps://forms.gle/P7L99jD7bQ1gGpsE8 \n  \n  \n 
URL:https://gsolympiads.com/event/asia-business-simulation-abs/
CATEGORIES:Business
ATTACH;FMTTYPE=image/jpeg:https://gsolympiads.com/wp-content/uploads/2025/10/WhatsApp-Image-2025-11-17-at-16.07.07-1.jpeg
END:VEVENT
BEGIN:VEVENT
DTSTART;VALUE=DATE:20251108
DTEND;VALUE=DATE:20251109
DTSTAMP:20260420T103226
CREATED:20251111T111021Z
LAST-MODIFIED:20251125T023206Z
UID:1189-1762560000-1762646399@gsolympiads.com
SUMMARY:YPSC – Youth Public Speaking Competition 2025–2026
DESCRIPTION:Officially Co-Organised by the English-Speaking Union (ESU) & ASEEDER 🌍 Jointly Supported by Macao Polytechnic University \n\n🏛 About the Organiser\nThe English-Speaking Union (ESU)\, established in 1918 and founded by Sir Evelyn Wrench\, is one of the UK’s oldest educational charities. Governed by a Royal Charter and headquartered at Dartmouth House\, London\, the ESU’s patrons have included Her Late Majesty Queen Elizabeth II\, Sir Winston Churchill\, and His Royal Highness The Duke of Edinburgh. With 54 branches worldwide and over one million young participants\, the ESU is a global leader in promoting English communication\, cultural understanding\, and oracy skills for peace and progress. \n\n🌟 Why Join YPSC?\n⭐ The first international public speaking competition for ages 6–16\, inspired by ESU’s world-renowned IPSC (ages 16–20).⭐ Designed to develop oracy\, the core speaking skill equivalent to literacy and numeracy.⭐ Focused on four skill sets: Reasoning & Evidence\, Listening & Response\, Expression & Delivery\, and Organisation & Prioritisation.⭐ Provides international exposure—from online preliminary rounds to live finals in Macau and the University of Cambridge.⭐ Winners receive global recognition\, certificates\, and mentorship from ESU-trained experts. \n\n📖 Competition Overview\nThe YPSC 2025–2026 is structured in three stages:1️⃣ Preliminary Round (Online Submission) 2️⃣ Asia Round (Macau\, China) 3️⃣ Global Finals (University of Cambridge\, UK) \n\n📍 Preliminary Round\nEligibility: Students aged 6–16 (Grades 1–10)Format: Online prepared speech video submissionRegistration Deadline: Before November 8\, 2025Submission Deadline: Before 18:00\, November 12\, 2025 \nCategories: \n\n\nPrimary School – Beginner (Grades 1–2)\n\n\nPrimary School – Intermediate (Grades 3–4)\n\n\nPrimary School – Advanced (Grades 5–6)\n\n\nSecondary School (Grades 7–10)\n\n\nAwards: 🏅 Gold – Top 15% | 🥈 Silver – Top 15.01–25% | 🥉 Bronze – Top 25.01–50% \n\n📘 Asia Round\nCo-Organised by: ESU\, ASEEDER & Macao Polytechnic UniversityLocation: Macau\, ChinaDate: Late January / Early February 2026Eligibility: Finalists with Gold\, Silver & Bronze Awards in Preliminary Round \nHighlights: 🎤 Public Speaking Masterclass🗣️ Prepared Speech & Impromptu Speech Challenge🏅 Gold – Top 15% | Silver – Top 15.01–25% | Bronze – Top 25.01–50% \n\n🎓 Global Finals\nVenue: Gonville & Caius College\, University of Cambridge\, UKDate: July–August 2026 Eligibility: Finalists with Gold\, Silver & Bronze Awards in the Asia RoundCategory: Primary School – Intermediate and aboveSessions Include: 📚 5-Day Public Speaking Bootcamp🤝 British Student Friendship Tournament🏛 Cultural Immersion & London Tour \n\n🎯 Evaluation Framework\n\n\nExpression & Delivery – Speak confidently and engage the audience.\n\n\nOrganisation & Prioritisation – Present arguments clearly and logically.\n\n\nReasoning & Evidence – Defend statements with strong logic and examples.\n\n\nListening & Response – Analyze and respond effectively (assessed in later rounds).\n\n\n\n📜 Certificate & Official Resources\n🏆 Every participant receives an ESU Certificate of Participation.📘 Registered students gain access to official resources\, guidelines\, and speech templates. \n\n💡 Video Submission Requirements\n🎥 Language: English🕐 Duration: Based on category (1–4 minutes max)📱 Recording: One take\, no editing\, clear audio\, well-lit background🚫 Restrictions: No social media posting\, no AI or editing tools allowed \n\n📅 Key Dates\n\n\nRegistration Deadline: November 8\, 2025\n\n\nSubmission Deadline: November 12\, 2025 (18:00)\n\n\nAsia Round: January/February 2026\n\n\nGlobal Finals: July/August 2026\n\n\n 📝 Deadline: Before 18:00 on November 12\, 2025 \nREGISTRATION LINK:https://forms.gle/R3xLMnFLCrXuzUTXA
URL:https://gsolympiads.com/event/ypsc-youth-public-speaking-competition-2025-2026/
CATEGORIES:Languages
ATTACH;FMTTYPE=image/jpeg:https://gsolympiads.com/wp-content/uploads/2025/10/WhatsApp-Image-2025-11-17-at-16.07.07.jpeg
END:VEVENT
BEGIN:VEVENT
DTSTART;VALUE=DATE:20251109
DTEND;VALUE=DATE:20251110
DTSTAMP:20260420T103226
CREATED:20251020T012431Z
LAST-MODIFIED:20251125T023146Z
UID:1176-1762646400-1762732799@gsolympiads.com
SUMMARY:Intermediate Biology Olympiad (iBO) 2025
DESCRIPTION:Prestigious Global Biology Competition for Students \n\n\n\n🧠 Why Join?\n⭐ Prestigious biology competition officially supported by the Royal Society of Biology (RSB) ⭐ Designed for students ready to push knowledge beyond the school curriculum ⭐ Globally recognized & aligned with UK biology excellence standards \n\n\n\n💡 What is the iBO?\n🌿 Organized by the UK Biology Competitions Committee (UKBC) 🔬 For Grade 10–11 / Year 11–12 (GCSE\, A1 level) 🧪 Covers genetics\, physiology\, biochemistry\, ecology\, and more 📋 Individual online test with multiple-choice\, fill-in-the-blank\, and sequencing questions 🎯 Perfect for future scientists seeking deep academic challenge & global recognition \n\n\n\n🗓 Competition Details\n📅 Date: Sunday\, November 9\, 2025 ⏰ Time: 16:00 – 17:00 (Jakarta Time) ⏱ Duration: 60 minutes 💻 Format: Online\, Individual Test 🧬 Language: English \n\n\n\n🏆 Awards (2024 Benchmarks)\n🥇 Gold: 63.45+ 🥈 Silver: 59.42+ 🥉 Bronze: 55.28+ 🎖️ Highly Commended: 53.31+ 🎖️ Commended: 50.86+ 📜 All participants receive official e-certificates 📊 Awards use UK national thresholds – same standard as British students \n\n\n\n💰 REGISTER NOW! \n📝 Deadline: October 26\, 2025 (2 weeks before competition) 💸 Fee: (includes exam\, grading\, past papers\, certificate) 🔗 [Insert QR code or Registration Link here] 🌿 Exclusive for Awardees – iBO Camp 2026  📅 Date: January 2026 (TBD)  📍 Location: Beijing\, China 🎓 Instructor: Dr. Treharne – Chairman of UKBC\, Head Coach of UK National Biology Team 🧪 Includes practical lab sessions simulating real research \n\n\n\nREGISTRATION LINK: https://forms.gle/HE4yRrMuU8nnhSEX8
URL:https://gsolympiads.com/event/intermediate-biology-olympiad-ibo-2025/
CATEGORIES:STEM
ATTACH;FMTTYPE=image/jpeg:https://gsolympiads.com/wp-content/uploads/2025/11/WhatsApp-Image-2025-11-17-at-16.07.07-4.jpeg
END:VEVENT
BEGIN:VEVENT
DTSTART;VALUE=DATE:20251123
DTEND;VALUE=DATE:20251124
DTSTAMP:20260420T103226
CREATED:20251111T112006Z
LAST-MODIFIED:20251125T023124Z
UID:1171-1763856000-1763942399@gsolympiads.com
SUMMARY:Junior Physics Challenge (JPC) 2025
DESCRIPTION:Inspiring Young Minds in Physics – British Physics Olympiad Committee (UK) \n🧠 Why Join?\n⭐ One of the most competitive physics competitions in the UK⭐ Excellent exposure for students aiming for top university science majors ⭐ Chance to advance to JPC Final – Science Carnival in China ⭐ Inspires curiosity\, critical thinking & hands-on application in physics \n💡 What is JPC?\n📜 Founded in 1979 by the British Physics Olympiad Committee (UK) 🔭 International competition for middle school students in conceptual physics📚 Topics include:• Dynamics • Electricity • Optics • Heat• Waves • Astronomy • Units & Measurements🚀 Recognized path to advanced competitions like the International Physics Olympiad \n Details\n📅 Date: Sunday\, November 23\, 2025 ⏰ Time: 16:00 – 16:50 (Jakarta Time) ⏱ Duration: 50 minutes 💻 Format: Online\, Individual Test 📘 Question Type: 60 Multiple Choice Questions 👤 Eligibility: Grade 7–9 / Year 8–10 🗣 Language: English \n🏆 Awards\n🌐 Global Awards – Gold\, Silver\, Bronze🌏 Asian Awards – Asian Honorable Award (Top 10% in Asia\, excluding global winners)📊 Global thresholds are set based on UK participant results – international awards follow the same benchmarks📜 All participants receive official e-certificates \n🚀 JPC Final – Science Carnival 2026\n📅 Date: May 2026 (TBD) 📍 Location: Shanghai\, China 📖 Format: 3-day in-person camp with workshops\, labs & physics team activities🎯 Eligibility: Top performers from JPC preliminary round🧪 Combines academics with hands-on learning & global collaboration💰 REGISTER NOW! 📝 Deadline: November 9\, 2025 (2 weeks before competition)💸 Fee: (includes exam\, grading\, proctoring\, past papers & certificate)🔗 [Insert QR code or Registration Link here] \nREGISTRATION LINK:https://forms.gle/ZvWnaXGnEaKjh1zQA
URL:https://gsolympiads.com/event/junior-physics-challenge-jpc-2025/
CATEGORIES:STEM
ATTACH;FMTTYPE=image/jpeg:https://gsolympiads.com/wp-content/uploads/2025/11/WhatsApp-Image-2025-11-17-at-16.07.07-3.jpeg
END:VEVENT
BEGIN:VEVENT
DTSTART;VALUE=DATE:20251123
DTEND;VALUE=DATE:20251124
DTSTAMP:20260420T103226
CREATED:20251111T112158Z
LAST-MODIFIED:20251125T023107Z
UID:1173-1763856000-1763942399@gsolympiads.com
SUMMARY:Continental Math League 2025
DESCRIPTION:The Largest Inter-School Math League in the U.S. \n\n\n\n🧠 Why Join?\n⭐ Over 70\,000 participants annually from 500+ schools across the U.S.⭐ Promotes mathematical thinking from an early age ⭐ Focuses on interest & enrichment\, not just competition ⭐ Real-time rankings during Individual GUTS round⭐ All grades awarded separately for fair recognition \n\n\n\n💡 What is CML?\n📜 Founded in 1980 by veteran math coaches Joseph Quartaro & Henry Hull 📊 One of the longest-standing school-based math leagues in the world🧠 Known for structured paper sets with graded difficulty 🎯 Develops logical reasoning & problem-solving from early stages \n\n\n\n📚 Papers Available\n📘 Grade 1–3 / Year 2–4: 3 sets × 6 questions = 18 total📗 Grade 4–9 / Year 5–10: 5 sets × 6 questions = 30 total \n\n\n\n🗓 Competition Details\n📅 Date: Sunday\, November 23\, 2025 ⏰ Grade 1–3: 13:00 – 14:30 (Jakarta Time) ⏰ Grade 4–9: 13:00 – 15:30 (Jakarta Time) ⏱ Duration: • Grade 1–3: 90 minutes • Grade 4–9: 150 minutes 💻 Format: Online\, Individual Test 📝 Question Type: Multiple Choice & Fill-in-the-Blank 🌍 Language: English 🎯 Eligibility: Grade 1–9 / Year 2–10 \n\n\n\n🏆 Awards\n🌐 Global School Awards – Top 6 total scores per school determine School Ranking🌏 Asian Awards (by Grade/Year) 🥇 Perfect Score: CML Medal 🏅 Top 10 in Asia: Ranked by score\, tie-breaker by time 🥇 Gold: Top 15% 🥈 Silver: Top 30%🥉 Bronze: Top 45%🏅 Honorable Mention: Top 70%📜 All participants receive official e-certificates \n💰 REGISTER NOW!  📝 Deadline: November 9\, 2025 (2 weeks before competition) \n\n\n\nREGISTRATION LINK: https://forms.gle/6rvbLozL1wLFmnar5 
URL:https://gsolympiads.com/event/continental-math-league-2025/
CATEGORIES:STEM
ATTACH;FMTTYPE=image/jpeg:https://gsolympiads.com/wp-content/uploads/2025/10/WhatsApp-Image-2025-11-17-at-16.07.07-2.jpeg
END:VEVENT
END:VCALENDAR