BEGIN:VCALENDAR
VERSION:2.0
PRODID:-//gsolympiads.com - ECPv6.15.20//NONSGML v1.0//EN
CALSCALE:GREGORIAN
METHOD:PUBLISH
X-ORIGINAL-URL:https://gsolympiads.com
X-WR-CALDESC:Events for gsolympiads.com
REFRESH-INTERVAL;VALUE=DURATION:PT1H
X-Robots-Tag:noindex
X-PUBLISHED-TTL:PT1H
BEGIN:VTIMEZONE
TZID:Asia/Singapore
BEGIN:STANDARD
TZOFFSETFROM:+0800
TZOFFSETTO:+0800
TZNAME:+08
DTSTART:20240101T000000
END:STANDARD
END:VTIMEZONE
BEGIN:VEVENT
DTSTART;VALUE=DATE:20251010
DTEND;VALUE=DATE:20251011
DTSTAMP:20260420T123053
CREATED:20251020T015051Z
LAST-MODIFIED:20251125T023335Z
UID:1183-1760054400-1760140799@gsolympiads.com
SUMMARY:UKMT–SMC 2025
DESCRIPTION:Senior Mathematical Challenge \n\n\n\n🧠 Why Join? ⭐️ The only individual Mathematical Challenge recommended by the University of Cambridge Super Curricular suggestion is the UKMT! \n\n\n\n💡 What is SMC? \n\n\n\n\nA global individual math competition while aimed at Grades 10–12 (Students from Grade 9+ can participate to stretch their math ability)\n\n\n\nDesigned to sharpen logic\, problem-solving\, and mathematical fluency\n\n\n\nCovers essential high school topics: geometry\, number theory\, permutations\, combinations\, applied math\, and more\n\n\n\nPerfect for both beginner and experienced problem-solvers\n\n\n\n\n🗓 Competition Details 📅 Date: Friday\, October 10\, 2025 ⏱️ Duration: 90 minutes 💻 Format: Online\, Individual Test 🧮 Question Type: 25 multiple-choice questions \n\n\n\n 🎯 Scoring: • Start at 25 pts • +4 pts correct • –1 pt incorrect • 0 pts blank \n\n\n\n🏆 Awards (2024 Benchmarks) 🥇 Gold: 83+ 🥈 Silver: 66+ 🥉 Bronze: 49+ 🏫 Best in School: Top scorer 📚 Best in Year: Top scorer per grade 📜 All others receive E-certificates of participation \n\n\n\n📊 Top 66% globally awarded Gold\, Silver\, or Bronze (UK thresholds apply internationally) \n\n\n\n💰 REGISTER 📝 Deadline: September 28\, 2025 🔗 \n\n\n\n📩 Contact Us 📧 Email: admin@gsolympiads@gmail.com 📱 WhatsApp: +62 855-4502-9439 📷 Instagram: @GSOlympiads \n\n\n\nREGISTRATION LINK:  \nhttps://forms.gle/afDA6G2fvPAxZW957
URL:https://gsolympiads.com/event/ukmt-smc-2025/
CATEGORIES:STEM
ATTACH;FMTTYPE=image/jpeg:https://gsolympiads.com/wp-content/uploads/2025/11/WhatsApp-Image-2025-11-17-at-16.07.08.jpeg
END:VEVENT
BEGIN:VEVENT
DTSTART;VALUE=DATE:20251027
DTEND;VALUE=DATE:20251028
DTSTAMP:20260420T123053
CREATED:20251020T014456Z
LAST-MODIFIED:20251125T023246Z
UID:1181-1761523200-1761609599@gsolympiads.com
SUMMARY:The International Neuroscience Olympiad (INO) 2025
DESCRIPTION:An Interdisciplinary Journey into the Mysteries of the Brain Originating from UC Berkeley | Supported by Delaware Public Health Association & Indigo Research \n\n🔍 Why Join INO?\n⭐ A prestigious global neuroscience competition with 12\,000+ participants from 42 countries & regions⭐ Chance to earn fully-funded Ivy League lab research experience & co-author papers with top professors⭐ Explore cutting-edge neuroscience breakthroughs in cognition\, emotion\, memory\, and behavior⭐ Cultivate essential skills: creativity\, critical analysis & scientific reasoning — transferable across all careers \n\n💡 What is INO?\n📜 Founded at UC Berkeley to inspire young neuroscience researchers🌍 Officially supported by the Delaware Public Health Association & Indigo Research (US) 🧬 Focuses on modern neuroscience principles\, brain systems\, and real-world applications📖 Past winners have gained exclusive access to Harvard Neuroscience Labs \n\n🗓 Competition Details\n📅 Date: Monday\, October 27\, 2025 ⏰ Time: (Exact schedule to be announced)💻 Format: Online\, Individual Test 📝 Question Type: 35 Multiple Choice + 5 Short-Answer 👤 Eligibility: Grade 7–12 / Year 8–13 [Ages 13–18] 🗣 Language: English \n\n🏆 Awards\n🌐 Global Awards \n\n\n🥇 Gold: Top 5%\n\n\n🥈 Silver: Top 10%\n\n\n🥉 Bronze: Top 15%\n\n\n🌏 Asian Awards \n\n\n🌟 High Distinction: Top 10%\n\n\n🎖 Distinction: Top 25%\n\n\n📜 Credit: Top 40%\n\n\n⚠️ Note: Asian and Global awards are mutually exclusive \n\n🚀 Beyond the Olympiad\n🏛 INO Finalists may earn:🔬 Fully-funded Ivy League lab research opportunities📖 Co-authorship with professors on neuroscience papers🌍 Exposure to cutting-edge labs & international collaboration \n\n💰 Registration\n📝 Deadline: October 13\, 2025 \nREGISTRATION LINK:https://forms.gle/HhRhHZXpjeZKp9eP9
URL:https://gsolympiads.com/event/the-international-neuroscience-olympiad-ino-2025/
CATEGORIES:STEM
ATTACH;FMTTYPE=image/jpeg:https://gsolympiads.com/wp-content/uploads/2025/10/WhatsApp-Image-2025-11-17-at-16.07.07-2.jpeg
END:VEVENT
BEGIN:VEVENT
DTSTART;VALUE=DATE:20251031
DTEND;VALUE=DATE:20251102
DTSTAMP:20260420T123053
CREATED:20251020T014239Z
LAST-MODIFIED:20251125T023227Z
UID:1179-1761868800-1762041599@gsolympiads.com
SUMMARY:Asia Business Simulation (ABS)
DESCRIPTION:Rundown \nAsia Business Simulation 2025 – Regional Round \nLaunching Entrepreneurial Dreams. Shaping Future Business Leaders. \n🚀 What Is It?\nAsia Business Simulation is a competition built around a hands-on learning experience where students get to experience what it’s like to be professional entrepreneurs—running virtual companies and competing in strategic business challenges over two exciting days.\n🎓 This program is open to students in Grades 8 to 12\, giving middle and high schoolers a unique opportunity to develop their business skills early on.\n👥 Each team should consist of 6–8 students\, so gather your team and get ready to take on the challenge!\n🌏 More than 90\,000 students from 600+ schools have joined the movement. Now it’s your turn!\n📊 Judging Rubric \nStrategy 15% | Execution 50% | Presentation 35% \n🧩 Competition Rounds\nYour team will tackle four core challenges: \n\n\n🏢 Operations – Simulate daily business management\n\n\n🗂 Pitch Deck – Create & present a powerful business proposal\n\n\n📈 Stock Simulation – Trade\, invest\, and watch your company grow\n\n\n🔨 Auction – Strategically bid and acquire key business assets\n\n\n🗓️ Competition Detail:\n🖥️ Pre-Event Briefing: Online session before competition day\n🏆 Competition Dates: October 31 – November 1\, 2025\n📍 Venue:\nSPM Sekolah Perkumpulan Mandiri\nJl. Panglima Polim 1 Blok N/1 No.207-B\,\nMelawai\, Kebayoran Baru\,Jakarta Selatan 12160\, Indonesia\n📝 Registration Deadline: October 10\, 2025 \n🎯 Why Join?\n\nKey Skills\nTeamwork\, leadership\, problem-solving.\nStart a Virtual Business\nExperience real-world challenges in a fun simulation.\nStand Out Academically\nEnhance your university and scholarship applications.\n\n🏅 AWARDS\n\n\n🥇 GOLD: 1st Place\n\n\n🥈 SILVER: Top 10%\n\n\n🥉 BRONZE: Top 25%\n\n\n🎓 Enterprise Certificate for Top 60%\n\n\nREGISTER NOW!✅ Fee includes: Participation\, materials\, mentoring\, feedback\, and certification \nhttps://forms.gle/P7L99jD7bQ1gGpsE8 \n  \n  \n 
URL:https://gsolympiads.com/event/asia-business-simulation-abs/
CATEGORIES:Business
ATTACH;FMTTYPE=image/jpeg:https://gsolympiads.com/wp-content/uploads/2025/10/WhatsApp-Image-2025-11-17-at-16.07.07-1.jpeg
END:VEVENT
END:VCALENDAR