BEGIN:VCALENDAR
VERSION:2.0
PRODID:-//gsolympiads.com - ECPv6.15.20//NONSGML v1.0//EN
CALSCALE:GREGORIAN
METHOD:PUBLISH
X-WR-CALNAME:gsolympiads.com
X-ORIGINAL-URL:https://gsolympiads.com
X-WR-CALDESC:Events for gsolympiads.com
REFRESH-INTERVAL;VALUE=DURATION:PT1H
X-Robots-Tag:noindex
X-PUBLISHED-TTL:PT1H
BEGIN:VTIMEZONE
TZID:Asia/Singapore
BEGIN:STANDARD
TZOFFSETFROM:+0800
TZOFFSETTO:+0800
TZNAME:+08
DTSTART:20250101T000000
END:STANDARD
END:VTIMEZONE
BEGIN:VEVENT
DTSTART;VALUE=DATE:20260129
DTEND;VALUE=DATE:20260130
DTSTAMP:20260420T141929
CREATED:20251111T111154Z
LAST-MODIFIED:20251215T050849Z
UID:1508-1769644800-1769731199@gsolympiads.com
SUMMARY:United Kingdom Mathematics Trust – Intermediate Mathematical Challenge (IMC) 2025–2026
DESCRIPTION:One of the Most Popular Mathematics Challenges in the UK — Over 700\,000 Participants Worldwide Every Year \n🌍 Why Join?\n ⭐ The most popular mathematics challenge in the UK\n ⭐ Over 700\,000 participants worldwide each year\n ⭐ Encourages mathematical reasoning\, precision of thought\, and fluency in applying problem-solving techniques\n ⭐ Serves as a pathway to advanced competitions — Cayley (CMO)\, Hamilton (HMO)\, and Maclaurin Mathematical Olympiads (MMO) \n📌 About the Competition\n 📜 Organized by the United Kingdom Mathematics Trust (UKMT)\n 📚 Designed to challenge students and nurture mathematical thinking beyond the school syllabus\n 🧠 Focuses on reasoning and creative problem-solving\, not rote memorization\n 💡 Problems are accessible for all but challenging for the most experienced students \n🧮 Competition Details\n 📆 Date: January 29\, 2026 (Thursday)\n ⏱ Duration: 60 minutes\n 🖥 Form: Online\n 📚 Language: English\n 👥 Type: Individual test\n 🧩 Format: 25 multiple-choice questions \n📏 Scoring Rules \n\nQuestions 1–15: +5 points each (no penalty for wrong answers)\nQuestions 16–20: +6 points each\, −1 for wrong answers\nQuestions 21–25: +6 points each\, −2 for wrong answers\nBlank answers = 0 points\n\n🎓 Eligibility\n 👤 Students in Grade 10 or below (Year 11 or below)\n 🌍 Open internationally — participants are assessed based on UK award thresholds \n📅 Timeline\n 📌 Registration Deadline: January 10\, 2025\n 📌 Competition Date: January 29\, 2026 (Thursday) \n🏆 Awards (Global Standards)\n 🥇 Gold Award: 89+\n 🥈 Silver Award: 69+\n 🥉 Bronze Award: 54+\n 🏫 Best in School: Top 1 participant in each school\n 📘 Best in Year: Top 1 participant in each grade\n 🎖️ Top 50% of participants receive Gold\, Silver\, or Bronze in a 1:2:3 ratio\n 📜 All others receive an E-certificate of Participation \n📚 Follow-on Olympiad Rounds\n ➡ CMO (Cayley Mathematical Olympiad) – Grade 8\n ➡ HMO (Hamilton Mathematical Olympiad) – Grade 9\n ➡ MMO (Maclaurin Mathematical Olympiad) – Grade 10\n Each round consists of six Olympiad-style problems requiring full written solutions. \n🔗 Official Links\n 🌐 Website: www.gsolympiads.com \n📩 Contact Us\n 📧 Email: admin@gsolympiads.com\n 📱 WhatsApp: +62 855-4502-9439 / +62 831-7912-3038\n 📷 Instagram: @gsolympiads \nRegistration Link:\nhttps://forms.gle/cJboXQqHtffNMBUR6
URL:https://gsolympiads.com/event/united-kingdom-mathematics-trust-intermediate-mathematical-challenge-imc-2025-2026/
CATEGORIES:STEM
ATTACH;FMTTYPE=image/jpeg:https://gsolympiads.com/wp-content/uploads/2025/11/WhatsApp-Image-2025-11-17-at-16.07.07-3.jpeg
END:VEVENT
BEGIN:VEVENT
DTSTART;VALUE=DATE:20260131
DTEND;VALUE=DATE:20260201
DTSTAMP:20260420T141929
CREATED:20251111T110802Z
LAST-MODIFIED:20251125T021930Z
UID:1519-1769817600-1769903999@gsolympiads.com
SUMMARY:UK Chemistry Olympiad (UKChO) 2025–2026
DESCRIPTION:The Most Prestigious Chemistry Competition for School Students in the UK — Now Open for International Participants \n🌍 Why Join?\n ⭐ The most prestigious and challenging high school chemistry competition in the UK\n ⭐ Opportunity for international students to tackle the same problems as UK participants\n ⭐ Enhances applications to top global universities through recognized academic awards\n ⭐ Designed to test A-level or equivalent chemistry knowledge and creative problem-solving skills\n ⭐ Organized by the Royal Society of Chemistry (RSC)\, UK \n📌 About the Competition\n 📜 A global challenge designed to inspire deeper understanding and appreciation of chemistry\n 🧪 Provides a platform to apply theoretical knowledge to real-world and analytical contexts\n 💡 The problems encourage critical reasoning\, quantitative analysis\, and scientific creativity \n🧠 Competition Details\n 📆 Date: January 31\, 2026 (Saturday)\n ⏱ Duration: 120 minutes\n 🖥 Form: Online\n 📚 Language: English\n 👥 Type: Individual competition\n 🧩 Format: Approximately 5–6 analytical problems\, each with 3–10 parts \n🎓 Eligibility\n 👤 Grade 10–12 / Year 11–13\n ⚠️ Students with British nationality cannot register via ASEEDER. \n📅 Timeline\n 📌 Registration Deadline: January 11\, 2026\n 📆 Competition Date: January 31\, 2026 \n🏆 Awards (Global Standards)\n 🥇 Gold Award\n 🥈 Silver Award\n 🥉 Bronze Award\n 📜 Award grade boundaries are determined by the UK participants’ performance.\n 🏅 Typically\, 60–65% of entrants receive at least a Bronze certificate\, and 7–8% achieve Gold. \n🎓 UKChO Asia Camp\n 📆 Date: August 2026 (TBD)\n 📍 Location: Beijing\n 🌐 Language: English\n 👥 Eligibility: Students who achieve a UKChO Award\n ⚠️ Limited to 80 participants — registration closes once full \n📩 Contact Us\n 📧 Email: admin@gsolympiads.com\n 📱 WhatsApp: +62 855-4502-9439 / +62 831-7912-3038\n 📷 Instagram: @gsolympiads\n 🌐 Website: www.gsolympiads.com \nRegistration Link: \nhttps://forms.gle/x6NZx15eLqPYTdiWA
URL:https://gsolympiads.com/event/uk-chemistry-olympiad-ukcho-2025-2026/
CATEGORIES:STEM
ATTACH;FMTTYPE=image/jpeg:https://gsolympiads.com/wp-content/uploads/2025/11/WhatsApp-Image-2025-11-17-at-16.07.06.jpeg
END:VEVENT
BEGIN:VEVENT
DTSTART;VALUE=DATE:20260131
DTEND;VALUE=DATE:20260201
DTSTAMP:20260420T141929
CREATED:20251111T110913Z
LAST-MODIFIED:20251125T021626Z
UID:1515-1769817600-1769903999@gsolympiads.com
SUMMARY:Intermediate & Senior Physics Challenge (Online) 2025–2026
DESCRIPTION:Hosted by the British Physics Olympiad Committee — Preliminary Round to the British Physics Olympiad IPC & SPC \n🌍 Why Join?\n ⭐ Officially hosted by the British Physics Olympiad (BPhO) Committee\n ⭐ International-level physics competition with top students worldwide\n ⭐ Develops analytical thinking\, problem-solving\, and application of physics in real life\n ⭐ Beneficial for students applying to science and engineering majors at top universities\n ⭐ Designed to build confidence and curiosity in physics — not just for top scorers but for all students interested in science \n📌 About the Competition\n 📜 Organized by the British Physics Olympiad\n 🧪 A challenging physics contest combining theoretical understanding with practical applications\n 🌐 The Online version serves as a preliminary round for the Intermediate (IPC) and Senior Physics Challenge (SPC)\n 💡 All questions are multiple choice\, conducted entirely online \n🧠 Competition Details\n 📆 Date: January 31\, 2026 (Saturday)\n ⏱ Duration: 60 minutes\n 🖥 Form: Online\n 📚 Language: English\n 👥 Type: Individual competition\n 📄 Format: Multiple-choice questions \n🎓 Eligibility \n\nIPC Online: Grade 9–10 / Year 10–11\n\nSPC Online: Grade 10–11 / Year 11–12\n\n🏆 Awards (Separate for IPC & SPC)\n 🥇 Gold Award\n 🥈 Silver Award\n 🥉 Bronze Award\n 📜 Awards are determined based on UK thresholds — global participants are awarded according to the same benchmarks set by British participants. \n📅 Timeline\n 📌 Registration Deadline: 2 weeks before the competition\n 📆 Competition Date: January 31\, 2026 \n🔗 Competition Website: www.seedcomp.asia/bpho-ipc/spc\n 📧 Email: info.asia@seedasdan.org \n📚 Part of the BPhO Series\n 🏫 Junior Physics Challenge (JPC) – Grades 7–9 / Year 8–10 (Multiple-choice)\n 🎓 Intermediate Physics Challenge (IPC) – Grades 9–10 / Year 10–11 (Free-response)\n 🎓 Senior Physics Challenge (SPC) – Grades 10–11 / Year 11–12 (Free-response)\n ⚗️ JPC Final – For top global award winners (Experimental problems) \n📩 Contact Us\n 📧 Email: admin@gsolympiads.com\n 📱 WhatsApp: +62 855-4502-9439 / +62 831-7912-3038\n 📷 Instagram: @gsolympiads\n 🌐 Website: www.gsolympiads.com \nRegistration Link: \nhttps://forms.gle/E2J3UDmLc8HK7tTG7
URL:https://gsolympiads.com/event/intermediate-senior-physics-challenge-online-2025-2026/
CATEGORIES:STEM
ATTACH;FMTTYPE=image/jpeg:https://gsolympiads.com/wp-content/uploads/2025/10/WhatsApp-Image-2025-11-17-at-16.07.07-1.jpeg
END:VEVENT
BEGIN:VEVENT
DTSTART;VALUE=DATE:20260318
DTEND;VALUE=DATE:20260319
DTSTAMP:20260420T141929
CREATED:20260218T014252Z
LAST-MODIFIED:20260218T014539Z
UID:1633-1773792000-1773878399@gsolympiads.com
SUMMARY:PHYSICSBOWL 2026
DESCRIPTION:Rules\nLanguage: English\nDate: Mar. 18\, 2026 (Wed.) 45 mins\nForm: Online\nStudent Eligibility: High school students (Grade 10-12/\nYear 11-13)\nType: Individual test\nFormat: 40 multiple choice questions\, 40 points in total. The test is composed of 50 questions; however\, students answer only 40 questions. There are 2 divisions. Participants do not need to choose the division before the exam. Division 1 students will answer only questions 1-40\, do not answer questions 41-50. Division 2 students will answer only questions 11-50\, do not answer questions 1-10. Division 1 is suitable for Grade 10 students (IB Grade10\, A-Level G2 students and excellent G1 students). Division 2 is more difficult (is suitable for IB Grade 11-12\, A-Level) \nAwards\nIndividual awards \n\nAsian top10\nAsian Gold: Top 10%\nAsian Silver: Top 25%\nAsian Bronze: Top 35%\nHonorable Award: Top 55%
URL:https://gsolympiads.com/event/physicsbowl-2026/
CATEGORIES:STEM
ATTACH;FMTTYPE=image/jpeg:https://gsolympiads.com/wp-content/uploads/2025/11/WhatsApp-Image-2025-11-17-at-16.07.07-4.jpeg
END:VEVENT
BEGIN:VEVENT
DTSTART;VALUE=DATE:20260320
DTEND;VALUE=DATE:20260321
DTSTAMP:20260420T141929
CREATED:20260218T015222Z
LAST-MODIFIED:20260218T015222Z
UID:1639-1773964800-1774051199@gsolympiads.com
SUMMARY:United Kingdom Mathematics Trust - CMO & HMO & MMO 2026
DESCRIPTION:CMO & HMO & MMO \nThe most popular mathematical challenges in UK. \n★ The most popular mathematical challenges in UK\n★ Over 700\,000 participants all over the world every year\n★ Encourage mathematical reasoning\, precision of thought\, and fluency in using basic mathematical techniques \nLanguage: English\nDate: CMO/HMO/MMO – Mar. 20\, 2026\nForm: Online\nDeadline: 2 weeks before the competition
URL:https://gsolympiads.com/event/united-kingdom-mathematics-trust-cmo-hmo-mmo-2026/
CATEGORIES:STEM
ATTACH;FMTTYPE=image/jpeg:https://gsolympiads.com/wp-content/uploads/2025/11/WhatsApp-Image-2025-11-17-at-16.07.06.jpeg
END:VEVENT
BEGIN:VEVENT
DTSTART;VALUE=DATE:20260403
DTEND;VALUE=DATE:20260404
DTSTAMP:20260420T141929
CREATED:20260310T015941Z
LAST-MODIFIED:20260310T015941Z
UID:1682-1775174400-1775260799@gsolympiads.com
SUMMARY:NATIONAL SCIENCE LEAGUE (NSL) 2026
DESCRIPTION:*NATIONAL SCIENCE LEAGUE (NSL) 2026*\nU.S. K–12 STEM Competition\n40+ Years of Excellence in Science Education \n🌍 *Why Join?*\n⭐ 30\,000+ students from 400+ U.S. schools annually\n⭐ 10 difficulty levels (Grade 1–12 / Year 2–13)\n⭐ Aligned with NGSS (Next Generation Science Standards)\n⭐ Builds scientific reasoning & interdisciplinary thinking\n⭐ Bronze+ winners (Grade 4–9) invited to All Star Science Carnival (Shanghai\, May 2026) \n🧠 *Competition Overview*\n📆 Date: April 3\, 2026 (Friday)\n⏱ Duration: 40 minutes\n🖥 Form: Online\n🌐 Language: English\n📌 Deadline: 2 weeks before competition\n👥 Individual Competition \n🎓 *Eligibility & Levels*\n🔹 *Primary School (Grade 1–6 / Year 2–7)*\n• Level 1: 25 MCQs\n• Level 2: 35 MCQs\n• Level 3: 40 MCQs \n🔹 *Middle School (Grade 7–9 / Year 8–10)*\n• Grade 7: Level 4 (50 MCQs)\n• Grade 8–9 choose subject:\n– Life Science (50 MCQs)\n– Physical Science (50 MCQs)\n– Earth Science (40 MCQs) \n🔹 *High School (Grade 9–12 / Year 10–13)*\nChoose one subject:\n• Physics (40 MCQs)\n• Chemistry (40 MCQs)\n• Biology (40 MCQs) \n📌 Students may compete at higher level (not lower). \n🏆 *Awards*\n🌏 Asian Individual Awards\n🥇 Perfect Score Medal\n🥇 Gold – Top 15%\n🥈 Silver – Top 25%\n🥉 Bronze – Top 35%\n📜 Honorable Mention – Top 70%\n🏫 Global School Awards\n🏆 Top 10 highest scores per subject contribute to school ranking \n🌟 *NSL All Star Round*\nASEEDER All Star Science Carnival\n📍 Shanghai | May 2026\n👥 Team of 4\n🎟 Eligible for Grade 4–9 Bronze Award and above\nCompete internationally. Explore deeper science. Expand global horizons. \n*Join here:*\nhttps://forms.gle/uEyF3KMimCUBazz58 \n📩 Contact Us\n📧 admin@gsolympiads.com\n📱 +62 855-4502-9439 / +62 831-7912-3038\n📷 @gsolympiads\n🌐 www.gsolympiads.com \n 
URL:https://gsolympiads.com/event/national-science-league-nsl-2026/
CATEGORIES:STEM
END:VEVENT
BEGIN:VEVENT
DTSTART;VALUE=DATE:20260405
DTEND;VALUE=DATE:20260406
DTSTAMP:20260420T141929
CREATED:20260310T020950Z
LAST-MODIFIED:20260410T061139Z
UID:1687-1775347200-1775433599@gsolympiads.com
SUMMARY:USA BIOLYMPIAD (USABO) 2026
DESCRIPTION:American High School Biology Competition\nOrganized by the Center for Excellence in Education (CEE)\nOne of the most prestigious biology competitions for high school students worldwide \n🌍 *Why Join USABO?*\n⭐ 10\,000+ students participate globally each year\n⭐ International academic recognition\n⭐ Strengthens university applications (Medicine\, Biology & Life Sciences)\n⭐ Develops critical thinking & scientific reasoning skills\n⭐ Deepens understanding of modern biological sciences \n🧠 *Competition Details*\n📆 Date: April 5\, 2026 (Sunday)\n⏱ Duration: 50 Minutes\n🖥 Form: Online\n👥 Type: Individual Competition\n🌐 Language: English\n📄 Format: 50 Multiple-Choice Questions \n📚 *Topics Covered*\n🔬 Cell Biology — 20%\n🌱 Plant Anatomy & Physiology — 15%\n🐾 Animal Anatomy & Physiology — 25%\n🧬 Genetics & Evolution — 15%\n🌎 Ecology — 15%\n🐝 Ethology — 5%\n🧾 Biosystematics — 5% \n🎓 *Eligibility*\nHigh School Students\nGrade 10–12 / Year 11–13\n🏆 Awards (Asia Ranking)\n🥇 Asian Gold — Top 10%\n🥈 Asian Silver — Top 25%\n🥉 Asian Bronze — Top 35%\n📜 Asian Honorable Mention — Top 55% \n*Join here:*\nhttps://forms.gle/uEyF3KMimCUBazz58\n⏳ Registration Deadline: 2 weeks before competition \n📩 Contact Us\n📧 admin@gsolympiads.com\n📱 +62 855-4502-9439 / +62 831-7912-3038\n📷 Instagram: @gsolympiads\n🌐 www.gsolympiads.com
URL:https://gsolympiads.com/event/usa-biolympiad-usabo-2026/
CATEGORIES:STEM
END:VEVENT
BEGIN:VEVENT
DTSTART;VALUE=DATE:20260413
DTEND;VALUE=DATE:20260414
DTSTAMP:20260420T141929
CREATED:20260306T063044Z
LAST-MODIFIED:20260306T063044Z
UID:1672-1776038400-1776124799@gsolympiads.com
SUMMARY:CONTINENTAL CALCULUS LEAGUE (CCL) 2026
DESCRIPTION:*📖 CONTINENTAL CALCULUS LEAGUE (CCL) 2026*\nInternational Calculus Competition\n40+ Years of Excellence in Mathematical Challenge \n*🌍 Why Join?*\n⭐ 40+ years of history\n⭐ 100+ schools & 5\,000+ students annually\n⭐ Global ranking recognition\n⭐ Strengthens top university applications\n⭐ Excellent preparation for AP Calculus (AB Level) \n*🧠 Competition Details*\n📆 Date: April 13\, 2026 (Monday)\n⏱ Duration: 160 minutes\n🖥 Form: Online\n🌐 Language: English\n📌 Registration Deadline: March 31\, 2026\n👥 Eligibility: Grade 10–12 / Year 11–13\n📄 Format:\n• 32 Questions (Multiple-Choice & Short Answer)\n• Divided into 4 sets (8 questions each)\n• ETS-approved calculators allowed\n*📚 Topics include:*\nDerivative • Limits • Primitive Functions • Fundamental Calculus Concepts \n*🏆 Awards*\n🌏 Asian Individual Awards\n🥇 Gold – Top 15%\n🥈 Silver – Top 30%\n🥉 Bronze – Top 45%\n📜 Honorable Mention – Top 70%\n🏫 Global School Awards\n🏆 Top 6 highest scores per school contribute to school ranking \n*🎯 Why CCL?*\nCalculus is essential for university majors in STEM\, engineering\, economics\, and beyond.\nCCL challenges students to deepen conceptual understanding while preparing for higher-level academic success. \n📩 Contact Us\n📧 admin@gsolympiads.com\n📱 +62 855-4502-9439 / +62 831-7912-3038\n📷 @gsolympiads\n🌐 www.gsolympiads.com
URL:https://gsolympiads.com/event/continental-calculus-league-ccl-2026/
CATEGORIES:STEM
END:VEVENT
BEGIN:VEVENT
DTSTART;VALUE=DATE:20260418
DTEND;VALUE=DATE:20260419
DTSTAMP:20260420T141929
CREATED:20260406T043951Z
LAST-MODIFIED:20260410T061154Z
UID:1720-1776470400-1776556799@gsolympiads.com
SUMMARY:CAMBRIDGE ECONOMICS & FINANCE COMPETITION (CEFC) 2026
DESCRIPTION:International Economics & Finance Competition\nOrganized by Cambridge University Finance & Investment Society (CUFIS) × Cambridge Student Investment Fund (CamSIF)\nOne of the most prestigious student-led finance competitions connected to the University of Cambridge \n🌍 Why Join?\n⭐ 10\,000+ students from 20+ countries participate globally\n⭐ Combines Economics × Finance for real-world understanding\n⭐ Enhances analytical thinking using economic models\n⭐ Strengthens university applications in economics\, finance\, and business majors\n⭐ Opportunity to advance to the Global Final at Cambridge \n🧠 Competition Details\n📆 Qualifier Round: April 18\, 2026 (GMT+8)\n⏱ Duration: 90 minutes\n🖥 Form: Online\n👥 Type: Individual Competition\n🌐 Language: English\n📄 Format\n* 50 Multiple-Choice Questions (MCQs) \n🎓 Eligibility\nGrade 9–12\n📚 Scope\n* Microeconomics\n* Macroeconomics\n* Financial Markets\n* Accounting\n* Valuation \n🏆 Awards (Global Ranking Based)\n* Honor Award: Top 5%\n* Gold Award: Top 15%\n* Silver Award: Top 30%\n* Bronze Award: Top 45%\n* Achievement Award: Top 60%\n📌 Students who achieve Bronze or above will be invited to the Global Final at the University of Cambridge (October 2026) \n🎯 Why It’s Special\n* Engage with Cambridge-level economics & finance concepts\n* Explore real-world applications like stock analysis & valuation\n* Gain exposure to global academic and financial networks\n* Experience academic sessions\, networking\, and competitions at Cambridge (Global Final) \n🔗 Register here\n🌐 https://docs.google.com/forms/d/1Exzl0knMFrRdEQuEQq2UV2WpEWfHIpb5wrrSjenJBno/edit#responses \n📩 Contact Us\n📧 admin@gsolympiads.com\n📱 +62 855-4502-9439 / +62 831-7912-3038\n📷 Instagram: @gsolympiads\n🌐 www.gsolympiads.com \n 
URL:https://gsolympiads.com/event/cambridge-economics-finance-competition-cefc-2026/
CATEGORIES:Economics
ATTACH;FMTTYPE=image/jpeg:https://gsolympiads.com/wp-content/uploads/2025/11/WhatsApp-Image-2025-11-17-at-16.07.06.jpeg
END:VEVENT
BEGIN:VEVENT
DTSTART;VALUE=DATE:20260423
DTEND;VALUE=DATE:20260424
DTSTAMP:20260420T141929
CREATED:20260306T062302Z
LAST-MODIFIED:20260306T062302Z
UID:1666-1776902400-1776988799@gsolympiads.com
SUMMARY:CANADIAN CHEMISTRY CONTEST (CCC) 2026
DESCRIPTION:🧪 *CANADIAN CHEMISTRY CONTEST (CCC) 2026*\nInternational High School Chemistry Competition\nHosted by the Chemical Institute of Canada (CIC)\nOne of the most recognized chemistry contests for high school students worldwide \n*🌍 Why Join?*\n⭐ Compete with talented chemistry students worldwide\n⭐ Organized by one of the world’s leading chemical institutions\n⭐ Strengthens university applications (Chemistry\, Medicine\, Engineering)\n⭐ Inspires passion for studying chemistry\n⭐ Top students may be invited to the Canadian Chemistry Olympiad (CCO) \n*🧠 Competition Details*\n📆 Date: April 23\, 2026 (Thursday)\n⏱ Duration: 60 minutes\n🖥 Form: Online\n👥 Type: Individual competition\n🌐 Language: English\n📄 Format: 25 Multiple-Choice Questions \n*📚 Topics Covered*\n⚗ Safety\n🧪 Organic Chemistry\n🧫 Acids & Bases\n🔬 Structure & Properties\n⚡ Electrochemistry\n💧 Solutions & Stoichiometry\n🌬 Gas Laws\n🔥 Thermochemistry & Reaction Kinetics\n⚖ Equilibria \n*🎓 Eligibility*\nGrade 10–12 / Year 11–13 \n*🏆 Awards*\nGlobal Awards\n🥇 Global Top 10%\nAsia Awards\n🥇 Asian Gold — Top 10%\n🥈 Asian Silver — Top 25%\n🥉 Asian Bronze — Top 35%\n📜 Asian Honorable — Top 55% \n📌 International participants may receive global recognition if their score exceeds the top 10% of Canadian participants. \n*⏳ Registration Deadline*\nApril 9\, 2026 \n*📩 Contact Us*\n📧 admin@gsolympiads.com\n📱 +62 855-4502-9439 / +62 831-7912-3038\n📷 Instagram: @gsolympiads\n🌐 www.gsolympiads.com
URL:https://gsolympiads.com/event/canadian-chemistry-contest-ccc-2026/
CATEGORIES:STEM
END:VEVENT
BEGIN:VEVENT
DTSTART;VALUE=DATE:20260430
DTEND;VALUE=DATE:20260501
DTSTAMP:20260420T141929
CREATED:20260310T021502Z
LAST-MODIFIED:20260410T061129Z
UID:1693-1777507200-1777593599@gsolympiads.com
SUMMARY:UKMT JUNIOR MATHEMATICAL CHALLENGE (JMC) 2026
DESCRIPTION:*📘 UKMT JUNIOR MATHEMATICAL CHALLENGE (JMC) 2026*\nInternational Mathematics Competition\nOrganized by the UK Mathematics Trust (UKMT)\nOne of the most popular mathematics challenges in the United Kingdom \n*🌍 Why Join?*\n⭐ 700\,000+ students participate worldwide each year\n⭐ One of the most popular math competitions in the UK\n⭐ Develops mathematical reasoning and critical thinking\n⭐ Encourages precision and problem-solving skills \n*🧠 Competition Details*\n📆 Date: April 30\, 2026 (Thursday)\n⏱ Duration: 60 minutes\n🖥 Form: Online\n👥 Type: Individual Competition\n🌐 Language: English\n📄 Format\n25 Multiple-Choice Questions \n*📊 Scoring Rules*\nQuestions 1–15 → 5 points each\nQuestions 16–25 → 6 points each\nWrong or blank answers → 0 points \n*🎓 Eligibility*\nGrade 7 / Year 8 or below\n🏆 Awards\n🥇 Gold\n🥈 Silver\n🥉 Bronze\n🏫 Best in School — Top participant in each school\n🎓 Best in Year — Top participant in each grade \n📌 Awards for international participants follow the same thresholds as UK participants. \n*⏳ Registration Deadline*\n2 weeks before the competition \nRegister Here :\nhttps://linktr.ee/GlobalScholarsOlympiads \n*📩 Contact Us*\n📧 admin@gsolympiads.com\n📱 +62 855-4502-9439 / +62 831-7912-3038\n📷 Instagram: @gsolympiads\n🌐 www.gsolympiads.com
URL:https://gsolympiads.com/event/ukmt-junior-mathematical-challenge-jmc-2026/
CATEGORIES:STEM
END:VEVENT
BEGIN:VEVENT
DTSTART;VALUE=DATE:20260511
DTEND;VALUE=DATE:20260512
DTSTAMP:20260420T141929
CREATED:20260310T022017Z
LAST-MODIFIED:20260410T061038Z
UID:1697-1778457600-1778543999@gsolympiads.com
SUMMARY:BIOLOGY CHALLENGE (BC) 2026
DESCRIPTION:*🧬 BIOLOGY CHALLENGE (BC) 2026*\nInternational Biology Competition\nOrganized by UK Biology Competitions (UKBC)\nOne of the leading biology competitions for secondary school students \n*🌍 Why Join?*\n⭐ 10\,000+ students participate each year\n⭐ Encourages curiosity about the natural world\n⭐ Develops biological knowledge and scientific thinking\n⭐ Strengthens applications for science majors at top universities \n*🧠 Competition Details*\n📆 Date: May 11\, 2026 (Monday)\n⏱ Duration: 50 minutes\n🖥 Form: Online\n👥 Type: Individual Competition\n🌐 Language: English \n*📄 Format*\nMultiple question types including:\n• Multiple-choice\n• Fill-in-the-blank\n• Sequencing questions \n*🎓 Eligibility*\nGrade 7–9 / Year 8–10\nMultiple question types including:\n• Multiple-choice\n• Fill-in-the-blank\n• Sequencing questions \n*Awards:*\nGold: 90 ● Silver: 86 ● Bronze: 81 ● Highly Commended: 76 ● Commended:70.5 \n📌 International participants are awarded based on the same score thresholds as UK participants. \nRegister Here :\nhttps://linktr.ee/GlobalScholarsOlympiads \n*📩 Contact Us*\n📧 admin@gsolympiads.com\n📱 +62 855-4502-9439 / +62 831-7912-3038\n📷 Instagram: @gsolympiads\n🌐 www.gsolympiads.com
URL:https://gsolympiads.com/event/biology-challenge-bc-2026/
CATEGORIES:STEM
END:VEVENT
END:VCALENDAR