BEGIN:VCALENDAR
VERSION:2.0
PRODID:-//gsolympiads.com - ECPv6.15.20//NONSGML v1.0//EN
CALSCALE:GREGORIAN
METHOD:PUBLISH
X-WR-CALNAME:gsolympiads.com
X-ORIGINAL-URL:https://gsolympiads.com
X-WR-CALDESC:Events for gsolympiads.com
REFRESH-INTERVAL;VALUE=DURATION:PT1H
X-Robots-Tag:noindex
X-PUBLISHED-TTL:PT1H
BEGIN:VTIMEZONE
TZID:Asia/Singapore
BEGIN:STANDARD
TZOFFSETFROM:+0800
TZOFFSETTO:+0800
TZNAME:+08
DTSTART:20240101T000000
END:STANDARD
END:VTIMEZONE
BEGIN:VEVENT
DTSTART;VALUE=DATE:20251219
DTEND;VALUE=DATE:20251220
DTSTAMP:20260420T061309
CREATED:20251111T111649Z
LAST-MODIFIED:20251125T022941Z
UID:1187-1766102400-1766188799@gsolympiads.com
SUMMARY:YIS Global Stock Pitch Competition 2025–2026
DESCRIPTION:Officially Organized by the Young Investors Society (YIS) 🌍 Supported by Bloomberg\, Goldman Sachs\, and J.P. Morgan \n\nThink. Analyze. Invest. \nThe YIS Global Stock Pitch Competition is an international challenge where students step into the world of Wall Street — researching companies\, building stock theses\, and pitching real investment ideas to finance professionals. \n\n💡 Why Join YIS?\n⭐ Flagship global competition that simulates real-world stock research and investment analysis ⭐ Gain hands-on finance experience guided by Wall Street professionals and YIS mentors⭐ Build financial literacy\, research\, and public presentation skills⭐ Earn international recognition and the chance to attend the Global Youth Investment Summit in New York City  ⭐ Past champions have been featured on the NASDAQ billboard in Times Square \n\n📊 Competition Structure\nThe YIS Global Stock Pitch Competition consists of three progressive rounds\, each designed to strengthen students’ financial reasoning and market understanding. \n\n1️⃣ Preliminary Round\n📅 Date: December 19\, 2025📍 Location: Online👥 Team Formation: Individual participants🗣️ Language: English \nOnline\, 60-minute multiple-choice exam \nAcademic Focus (7 Core Topics): \n\n\nInvestment Rules & Investor Mindset\n\n\nStock Valuation & Pricing Metrics\n\n\nGood Business & Economic Moats\n\n\nStock Screens & Research Methods\n\n\nFinancial Language & Statement Analysis\n\n\nInvestment Thesis & Checklist\n\n\nIntrinsic Value Assessment Methods\n\n\nFormat: 🧩 Finance Theory & Calculation Test – 40 multiple-choice question (60 minutes) 🏅 Awards: \n\n\nBest Delegate – Top 5%\n\n\nOutstanding Delegate – Top 15%\n\n\nHonorable Mention – Top 30%\n\n\nCommendation – Top 60%\n\n\nAdvancement: Award-winning participants qualify for the Asia Round. \n\n2️⃣ Asia Round\n📅 Dates: February 6–11\, 2026📍 Location: Xiamen\, China (On-site)🗣️ Language: English👥 Team Formation: Individual or 2-member teams (same as in Preliminary Round) \nContent: 💹 Stock Trading Simulation📈 Stock Pitch Presentation \nAdvancement: Overall Award and Stock Pitch Winners qualify for the Global Round. \n\n3️⃣ Global Round\n📅 Dates: May–June 2026📍 Location: New York\, USAEligibility: Grades 9-12🗣️ Language: English👥 Team Formation: Individual or 2-member teams (same as in Asia Round) \nCompetition Segments: 📊 Case Study Analysis💼 Live Stock Pitch Challenge \nHighlights: 🌐 Global Youth Investment Summit – New York🎤 Workshops\, Panel Sessions & Networking Events with Finance Professionals \n🎓 Awards & Recognition\n🏅 Top Achievers qualify for the Asia & Global Rounds🎖️ Certificates of Excellence issued by YIS🎓 CYIA™ Certification opportunity🌍 Global Exposure through the New York Investment Summit \n\n📅 Important Dates\n\n\nPreliminary Round: December 19\, 2025 (Online)\n\n\nAsia Round: February 6–11\, 2026 (Xiamen\, China)\n\n\nGlobal Round: May–June 2026 (New York\, USA)\n\n\nREGISTRATION LINK:https://forms.gle/pFYqbS51ehcGJjxV6
URL:https://gsolympiads.com/event/yis-global-stock-pitch-competition-2025-2026/
CATEGORIES:Economics
ATTACH;FMTTYPE=image/jpeg:https://gsolympiads.com/wp-content/uploads/2025/11/WhatsApp-Image-2025-11-17-at-16.07.08.jpeg
END:VEVENT
END:VCALENDAR