BEGIN:VCALENDAR
VERSION:2.0
PRODID:-//gsolympiads.com - ECPv6.15.20//NONSGML v1.0//EN
CALSCALE:GREGORIAN
METHOD:PUBLISH
X-WR-CALNAME:gsolympiads.com
X-ORIGINAL-URL:https://gsolympiads.com
X-WR-CALDESC:Events for gsolympiads.com
REFRESH-INTERVAL;VALUE=DURATION:PT1H
X-Robots-Tag:noindex
X-PUBLISHED-TTL:PT1H
BEGIN:VTIMEZONE
TZID:Asia/Singapore
BEGIN:STANDARD
TZOFFSETFROM:+0800
TZOFFSETTO:+0800
TZNAME:+08
DTSTART:20240101T000000
END:STANDARD
END:VTIMEZONE
BEGIN:VEVENT
DTSTART;VALUE=DATE:20251208
DTEND;VALUE=DATE:20251209
DTSTAMP:20260420T061305
CREATED:20251111T111834Z
LAST-MODIFIED:20251125T023014Z
UID:1481-1765152000-1765238399@gsolympiads.com
SUMMARY:Cambridge Chemistry Challenge (C3L6) 2025–2026
DESCRIPTION: Officially Recommended Super-curricular by the University of Cambridge \n🌍 Why Join?\n ⭐ Highly recommended super-curricular for high school students by the University of Cambridge\n ⭐ Recognized as essential for top UK university applications\, with over 10\,000 students participating each year\n ⭐ Serves as a pre-test for the UK Chemistry Olympiad (UKChO)\n ⭐ Outstanding participants may be invited to the C3L6 Cambridge Chemistry Camp\n ⭐ Over 60% winning rate globally \n📌 About the Competition\n 📜 Co-hosted by the Department of Chemistry and St. Catharine’s College\, University of Cambridge\n 🧪 A global chemistry challenge for high school students\n 💡 Designed to extend A-Level chemistry knowledge in a challenging yet fun way\n 🏛 Judged by the University of Cambridge with global cutoff scores \n🧫 Competition Details\n 📆 Date: December 8\, 2025 (Monday)\n ⏱ Duration: 90 minutes\n 🖥 Form: Online\n 📚 Language: English\n 👥 Type: Individual test\n 📄 Format: 2–3 general chemistry questions with multiple sub-questions\n 📘 Topics: A-Level Chemistry Course \n🎓 Eligibility\n 👤 Students in Grade 9–11 / Year 10–12 (G1 to AS)\n 🌍 Open internationally \n📅 Timeline\n 📌 Registration Deadline: November 24\, 2025\n 📌 Competition Date: December 8\, 2025 (Monday) \n🏆 Awards\n 🏅 Roentgenium Award: 54\n 🥇 Gold Award: 30\n 🥈 Silver Award: 20\n 🥉 Copper Award: 14 \n💡 C3L6 Cambridge Chemistry Camp\n 📍 Location: St. Catharine’s College\, University of Cambridge\n 📆 Date: August 2026\n 🎯 Eligibility: Students who received the Roentgenium Award in 2025\n 👩‍🔬 Led by Prof. Peter Woother and Cambridge Chemistry mentors\n 🎓 Provides in-depth exploration of university-level chemistry\, hands-on experiments\, and official certification from St. Catharine’s College \nRegistration Link:\nhttps://forms.gle/DjDbe3BSF3hogRgx5
URL:https://gsolympiads.com/event/cambridge-chemistry-challenge-c3l6-2025-2026/
CATEGORIES:STEM
ATTACH;FMTTYPE=image/jpeg:https://gsolympiads.com/wp-content/uploads/2025/11/WhatsApp-Image-2025-11-17-at-16.07.07-3.jpeg
END:VEVENT
END:VCALENDAR